BEGIN:VCALENDAR
VERSION:2.0
PRODID:-//Tukios.com/
BEGIN:VEVENT
UID:0a28c2c8-4683-4fa5-84b5-3af00bc33351@www.robinsonyagerfh.com
DTSTAMP:20260423T074811Z
DTSTART:20260427T150000Z
DTEND:20260427T160000Z
SUMMARY:Memorial Service
DESCRIPTION:
URL:https://www.robinsonyagerfh.com/obituaries/sharon-bullard
LOCATION:Peace United Church of Christ 121 1st Street  Hartsburg MO 65039
GEO:38.6969119;-92.3119121
END:VEVENT
END:VCALENDAR