BEGIN:VCALENDAR
VERSION:2.0
PRODID:-//Tukios.com/
BEGIN:VEVENT
UID:3be2162c-099b-43d6-bb36-c14af621db50@www.robinsonyagerfh.com
DTSTAMP:20260423T074633Z
DTSTART:20260427T140000Z
DTEND:20260427T150000Z
SUMMARY:Visitation
DESCRIPTION:
URL:https://www.robinsonyagerfh.com/obituaries/sharon-bullard
LOCATION:Peace United Church of Christ 121 1st Street  Hartsburg MO 65039
GEO:38.6969119;-92.3119121
END:VEVENT
END:VCALENDAR